BEGIN:VCALENDAR
VERSION:2.0
PRODID:-//Orfila Vineyards &amp; Winery - ECPv6.15.20//NONSGML v1.0//EN
CALSCALE:GREGORIAN
METHOD:PUBLISH
X-ORIGINAL-URL:https://www.orfila.com
X-WR-CALDESC:Events for Orfila Vineyards &amp; Winery
REFRESH-INTERVAL;VALUE=DURATION:PT1H
X-Robots-Tag:noindex
X-PUBLISHED-TTL:PT1H
BEGIN:VTIMEZONE
TZID:America/Tijuana
BEGIN:DAYLIGHT
TZOFFSETFROM:-0800
TZOFFSETTO:-0700
TZNAME:PDT
DTSTART:20230312T100000
END:DAYLIGHT
BEGIN:STANDARD
TZOFFSETFROM:-0700
TZOFFSETTO:-0800
TZNAME:PST
DTSTART:20231105T090000
END:STANDARD
BEGIN:DAYLIGHT
TZOFFSETFROM:-0800
TZOFFSETTO:-0700
TZNAME:PDT
DTSTART:20240310T100000
END:DAYLIGHT
BEGIN:STANDARD
TZOFFSETFROM:-0700
TZOFFSETTO:-0800
TZNAME:PST
DTSTART:20241103T090000
END:STANDARD
BEGIN:DAYLIGHT
TZOFFSETFROM:-0800
TZOFFSETTO:-0700
TZNAME:PDT
DTSTART:20250309T100000
END:DAYLIGHT
BEGIN:STANDARD
TZOFFSETFROM:-0700
TZOFFSETTO:-0800
TZNAME:PST
DTSTART:20251102T090000
END:STANDARD
END:VTIMEZONE
BEGIN:VEVENT
DTSTART;TZID=America/Tijuana:20240208T170000
DTEND;TZID=America/Tijuana:20240208T190000
DTSTAMP:20260421T230913
CREATED:20240126T185340Z
LAST-MODIFIED:20240126T185340Z
UID:135-1707411600-1707418800@www.orfila.com
SUMMARY:Galentine's Day
DESCRIPTION:Celebrate Galentine’s Day with us at Orfila Vineyards and Winery! Gather your gal pals for an enjoyable Succulent Heart Planter Workshop. Ticket price is $60 (tax included)-Includes sweet bite and your first glass of wine. Create your own unique succulent arrangement to take home and enjoy. \n$60 | 21+
URL:https://www.orfila.com/event/galentines-day/
LOCATION:CA
ATTACH;FMTTYPE=image/jpeg:https://www.orfila.com/wp-content/uploads/2025/11/Galentine-Workshop-Flyer-printable.jpg
END:VEVENT
BEGIN:VEVENT
DTSTART;TZID=America/Tijuana:20240208T173000
DTEND;TZID=America/Tijuana:20240208T190000
DTSTAMP:20260421T230913
CREATED:20240117T182110Z
LAST-MODIFIED:20240117T182110Z
UID:127-1707413400-1707418800@www.orfila.com
SUMMARY:Trivia Night
DESCRIPTION:Come answer questions while sipping on genius juice at Orfila Escondido. Free to all. Just show up thirsty as we are a winery that would still like to sell a couple glasses or bottles of wine.
URL:https://www.orfila.com/event/trivianight/
LOCATION:CA
ATTACH;FMTTYPE=image/gif:https://www.orfila.com/wp-content/uploads/2025/11/Trivia.gif
END:VEVENT
END:VCALENDAR