BEGIN:VCALENDAR
VERSION:2.0
PRODID:-//Orfila Vineyards &amp; Winery - ECPv6.15.20//NONSGML v1.0//EN
CALSCALE:GREGORIAN
METHOD:PUBLISH
X-WR-CALNAME:Orfila Vineyards &amp; Winery
X-ORIGINAL-URL:https://www.orfila.com
X-WR-CALDESC:Events for Orfila Vineyards &amp; Winery
REFRESH-INTERVAL;VALUE=DURATION:PT1H
X-Robots-Tag:noindex
X-PUBLISHED-TTL:PT1H
BEGIN:VTIMEZONE
TZID:America/Tijuana
BEGIN:DAYLIGHT
TZOFFSETFROM:-0800
TZOFFSETTO:-0700
TZNAME:PDT
DTSTART:20230312T100000
END:DAYLIGHT
BEGIN:STANDARD
TZOFFSETFROM:-0700
TZOFFSETTO:-0800
TZNAME:PST
DTSTART:20231105T090000
END:STANDARD
BEGIN:DAYLIGHT
TZOFFSETFROM:-0800
TZOFFSETTO:-0700
TZNAME:PDT
DTSTART:20240310T100000
END:DAYLIGHT
BEGIN:STANDARD
TZOFFSETFROM:-0700
TZOFFSETTO:-0800
TZNAME:PST
DTSTART:20241103T090000
END:STANDARD
BEGIN:DAYLIGHT
TZOFFSETFROM:-0800
TZOFFSETTO:-0700
TZNAME:PDT
DTSTART:20250309T100000
END:DAYLIGHT
BEGIN:STANDARD
TZOFFSETFROM:-0700
TZOFFSETTO:-0800
TZNAME:PST
DTSTART:20251102T090000
END:STANDARD
END:VTIMEZONE
BEGIN:VEVENT
DTSTART;TZID=America/Tijuana:20240303T120000
DTEND;TZID=America/Tijuana:20240303T170000
DTSTAMP:20260425T005717
CREATED:20240212T213854Z
LAST-MODIFIED:20240212T213854Z
UID:143-1709467200-1709485200@www.orfila.com
SUMMARY:Lakehouse Resort Food & Wine Festival
DESCRIPTION:Lakehouse’s 3rd Annual Food & Wine Festival returns on March 3\, 2024. \nCome sip\, sample and vote for your favorite local food and drink at the beautiful Lakehouse Resort! This year’s event will feature restaurants\, breweries\, wineries and more from North County and San Diego. Live music from Perry O’Neal (12pm to 5pm) will set the perfect mood as you enjoy unlimited tastes on the stunning lakeside lawn. \nMarch 3rd | 12 pm \nTickets start at $95/person | 21+
URL:https://www.orfila.com/event/lakehouse-resort-food-wine-festival/
LOCATION:CA
ATTACH;FMTTYPE=image/png:https://www.orfila.com/wp-content/uploads/2025/11/FW24_Logos_Blue.png
END:VEVENT
END:VCALENDAR