BEGIN:VCALENDAR
VERSION:2.0
PRODID:-//Orfila Vineyards &amp; Winery - ECPv6.15.20//NONSGML v1.0//EN
CALSCALE:GREGORIAN
METHOD:PUBLISH
X-WR-CALNAME:Orfila Vineyards &amp; Winery
X-ORIGINAL-URL:https://www.orfila.com
X-WR-CALDESC:Events for Orfila Vineyards &amp; Winery
REFRESH-INTERVAL;VALUE=DURATION:PT1H
X-Robots-Tag:noindex
X-PUBLISHED-TTL:PT1H
BEGIN:VTIMEZONE
TZID:America/Tijuana
BEGIN:DAYLIGHT
TZOFFSETFROM:-0800
TZOFFSETTO:-0700
TZNAME:PDT
DTSTART:20230312T100000
END:DAYLIGHT
BEGIN:STANDARD
TZOFFSETFROM:-0700
TZOFFSETTO:-0800
TZNAME:PST
DTSTART:20231105T090000
END:STANDARD
BEGIN:DAYLIGHT
TZOFFSETFROM:-0800
TZOFFSETTO:-0700
TZNAME:PDT
DTSTART:20240310T100000
END:DAYLIGHT
BEGIN:STANDARD
TZOFFSETFROM:-0700
TZOFFSETTO:-0800
TZNAME:PST
DTSTART:20241103T090000
END:STANDARD
BEGIN:DAYLIGHT
TZOFFSETFROM:-0800
TZOFFSETTO:-0700
TZNAME:PDT
DTSTART:20250309T100000
END:DAYLIGHT
BEGIN:STANDARD
TZOFFSETFROM:-0700
TZOFFSETTO:-0800
TZNAME:PST
DTSTART:20251102T090000
END:STANDARD
END:VTIMEZONE
BEGIN:VEVENT
DTSTART;TZID=America/Tijuana:20240811T100000
DTEND;TZID=America/Tijuana:20240811T110000
DTSTAMP:20260424T100012
CREATED:20240731T220249Z
LAST-MODIFIED:20240731T220249Z
UID:205-1723370400-1723374000@www.orfila.com
SUMMARY:Yoga With Theresa
DESCRIPTION:Come open your body and your palate at this one hour all-levels yoga class led by Theresa Brennan\, one of Orfila’s certified yoga teacher and wine server . The event begins at 10:00 AM and includes a complimentary glass of wine of your choice. So whether you are a beginner or experienced yogi or wine lover\, this event is for you. The class will be held under the big white event tent facing the vineyard and mountains. \n$25 | 21+
URL:https://www.orfila.com/event/yoga-with-theresa-5/
LOCATION:CA
ATTACH;FMTTYPE=image/jpeg:https://www.orfila.com/wp-content/uploads/2025/11/Yoga-1.jpg
END:VEVENT
END:VCALENDAR