BEGIN:VCALENDAR
VERSION:2.0
PRODID:-//Orfila Vineyards &amp; Winery - ECPv6.15.20//NONSGML v1.0//EN
CALSCALE:GREGORIAN
METHOD:PUBLISH
X-WR-CALNAME:Orfila Vineyards &amp; Winery
X-ORIGINAL-URL:https://www.orfila.com
X-WR-CALDESC:Events for Orfila Vineyards &amp; Winery
REFRESH-INTERVAL;VALUE=DURATION:PT1H
X-Robots-Tag:noindex
X-PUBLISHED-TTL:PT1H
BEGIN:VTIMEZONE
TZID:America/Tijuana
BEGIN:DAYLIGHT
TZOFFSETFROM:-0800
TZOFFSETTO:-0700
TZNAME:PDT
DTSTART:20230312T100000
END:DAYLIGHT
BEGIN:STANDARD
TZOFFSETFROM:-0700
TZOFFSETTO:-0800
TZNAME:PST
DTSTART:20231105T090000
END:STANDARD
BEGIN:DAYLIGHT
TZOFFSETFROM:-0800
TZOFFSETTO:-0700
TZNAME:PDT
DTSTART:20240310T100000
END:DAYLIGHT
BEGIN:STANDARD
TZOFFSETFROM:-0700
TZOFFSETTO:-0800
TZNAME:PST
DTSTART:20241103T090000
END:STANDARD
BEGIN:DAYLIGHT
TZOFFSETFROM:-0800
TZOFFSETTO:-0700
TZNAME:PDT
DTSTART:20250309T100000
END:DAYLIGHT
BEGIN:STANDARD
TZOFFSETFROM:-0700
TZOFFSETTO:-0800
TZNAME:PST
DTSTART:20251102T090000
END:STANDARD
END:VTIMEZONE
BEGIN:VEVENT
DTSTART;TZID=America/Tijuana:20241110T120000
DTEND;TZID=America/Tijuana:20241110T150000
DTSTAMP:20260419T201534
CREATED:20241105T215542Z
LAST-MODIFIED:20241105T215542Z
UID:221-1731240000-1731250800@www.orfila.com
SUMMARY:Music: Jason Jenkins
DESCRIPTION:
URL:https://www.orfila.com/event/music-jason-jenkins/
LOCATION:CA
END:VEVENT
BEGIN:VEVENT
DTSTART;TZID=America/Tijuana:20241110T153000
DTEND;TZID=America/Tijuana:20241110T183000
DTSTAMP:20260419T201534
CREATED:20241105T215617Z
LAST-MODIFIED:20241105T215617Z
UID:222-1731252600-1731263400@www.orfila.com
SUMMARY:Music: Just Landed
DESCRIPTION:
URL:https://www.orfila.com/event/music-just-landed/
LOCATION:CA
END:VEVENT
END:VCALENDAR