BEGIN:VCALENDAR
VERSION:2.0
PRODID:-//Orfila Vineyards &amp; Winery - ECPv6.15.20//NONSGML v1.0//EN
CALSCALE:GREGORIAN
METHOD:PUBLISH
X-WR-CALNAME:Orfila Vineyards &amp; Winery
X-ORIGINAL-URL:https://www.orfila.com
X-WR-CALDESC:Events for Orfila Vineyards &amp; Winery
REFRESH-INTERVAL;VALUE=DURATION:PT1H
X-Robots-Tag:noindex
X-PUBLISHED-TTL:PT1H
BEGIN:VTIMEZONE
TZID:America/Tijuana
BEGIN:DAYLIGHT
TZOFFSETFROM:-0800
TZOFFSETTO:-0700
TZNAME:PDT
DTSTART:20230312T100000
END:DAYLIGHT
BEGIN:STANDARD
TZOFFSETFROM:-0700
TZOFFSETTO:-0800
TZNAME:PST
DTSTART:20231105T090000
END:STANDARD
BEGIN:DAYLIGHT
TZOFFSETFROM:-0800
TZOFFSETTO:-0700
TZNAME:PDT
DTSTART:20240310T100000
END:DAYLIGHT
BEGIN:STANDARD
TZOFFSETFROM:-0700
TZOFFSETTO:-0800
TZNAME:PST
DTSTART:20241103T090000
END:STANDARD
BEGIN:DAYLIGHT
TZOFFSETFROM:-0800
TZOFFSETTO:-0700
TZNAME:PDT
DTSTART:20250309T100000
END:DAYLIGHT
BEGIN:STANDARD
TZOFFSETFROM:-0700
TZOFFSETTO:-0800
TZNAME:PST
DTSTART:20251102T090000
END:STANDARD
END:VTIMEZONE
BEGIN:VEVENT
DTSTART;VALUE=DATE:20241129
DTEND;VALUE=DATE:20241130
DTSTAMP:20260419T220947
CREATED:20241105T220507Z
LAST-MODIFIED:20241105T220507Z
UID:234-1732838400-1732924799@www.orfila.com
SUMMARY:BLACK FRIDAY SALES
DESCRIPTION:
URL:https://www.orfila.com/event/black-friday-sales/
LOCATION:CA
END:VEVENT
BEGIN:VEVENT
DTSTART;TZID=America/Tijuana:20241129T120000
DTEND;TZID=America/Tijuana:20241129T150000
DTSTAMP:20260419T220947
CREATED:20241105T220535Z
LAST-MODIFIED:20241105T220535Z
UID:235-1732881600-1732892400@www.orfila.com
SUMMARY:Music: Jolene Cruz
DESCRIPTION:
URL:https://www.orfila.com/event/music-jolene-cruz/
LOCATION:CA
CATEGORIES:Music
END:VEVENT
BEGIN:VEVENT
DTSTART;TZID=America/Tijuana:20241129T153000
DTEND;TZID=America/Tijuana:20241129T183000
DTSTAMP:20260419T220947
CREATED:20241105T220558Z
LAST-MODIFIED:20241105T220558Z
UID:236-1732894200-1732905000@www.orfila.com
SUMMARY:Music: Shelby Bennett
DESCRIPTION:
URL:https://www.orfila.com/event/music-shelby-bennett/
LOCATION:CA
CATEGORIES:Music
END:VEVENT
END:VCALENDAR