BEGIN:VCALENDAR
VERSION:2.0
PRODID:-//Orfila Vineyards &amp; Winery - ECPv6.15.20//NONSGML v1.0//EN
CALSCALE:GREGORIAN
METHOD:PUBLISH
X-WR-CALNAME:Orfila Vineyards &amp; Winery
X-ORIGINAL-URL:https://www.orfila.com
X-WR-CALDESC:Events for Orfila Vineyards &amp; Winery
REFRESH-INTERVAL;VALUE=DURATION:PT1H
X-Robots-Tag:noindex
X-PUBLISHED-TTL:PT1H
BEGIN:VTIMEZONE
TZID:America/Tijuana
BEGIN:DAYLIGHT
TZOFFSETFROM:-0800
TZOFFSETTO:-0700
TZNAME:PDT
DTSTART:20230312T100000
END:DAYLIGHT
BEGIN:STANDARD
TZOFFSETFROM:-0700
TZOFFSETTO:-0800
TZNAME:PST
DTSTART:20231105T090000
END:STANDARD
BEGIN:DAYLIGHT
TZOFFSETFROM:-0800
TZOFFSETTO:-0700
TZNAME:PDT
DTSTART:20240310T100000
END:DAYLIGHT
BEGIN:STANDARD
TZOFFSETFROM:-0700
TZOFFSETTO:-0800
TZNAME:PST
DTSTART:20241103T090000
END:STANDARD
BEGIN:DAYLIGHT
TZOFFSETFROM:-0800
TZOFFSETTO:-0700
TZNAME:PDT
DTSTART:20250309T100000
END:DAYLIGHT
BEGIN:STANDARD
TZOFFSETFROM:-0700
TZOFFSETTO:-0800
TZNAME:PST
DTSTART:20251102T090000
END:STANDARD
END:VTIMEZONE
BEGIN:VEVENT
DTSTART;TZID=America/Tijuana:20241213T120000
DTEND;TZID=America/Tijuana:20241213T150000
DTSTAMP:20260419T165400
CREATED:20241213T201305Z
LAST-MODIFIED:20241213T201305Z
UID:244-1734091200-1734102000@www.orfila.com
SUMMARY:Music: Christian Taylor
DESCRIPTION:Music: Christian Taylor
URL:https://www.orfila.com/event/music-christian-taylor/
LOCATION:CA
END:VEVENT
BEGIN:VEVENT
DTSTART;TZID=America/Tijuana:20241213T153000
DTEND;TZID=America/Tijuana:20241213T183000
DTSTAMP:20260419T165400
CREATED:20241213T201357Z
LAST-MODIFIED:20241213T201357Z
UID:245-1734103800-1734114600@www.orfila.com
SUMMARY:Music: Tiffany Jane
DESCRIPTION:Music: Tiffany Jane
URL:https://www.orfila.com/event/music-tiffany-jane/
LOCATION:CA
END:VEVENT
END:VCALENDAR