BEGIN:VCALENDAR
VERSION:2.0
PRODID:-//Orfila Vineyards &amp; Winery - ECPv6.15.20//NONSGML v1.0//EN
CALSCALE:GREGORIAN
METHOD:PUBLISH
X-ORIGINAL-URL:https://www.orfila.com
X-WR-CALDESC:Events for Orfila Vineyards &amp; Winery
REFRESH-INTERVAL;VALUE=DURATION:PT1H
X-Robots-Tag:noindex
X-PUBLISHED-TTL:PT1H
BEGIN:VTIMEZONE
TZID:America/Tijuana
BEGIN:DAYLIGHT
TZOFFSETFROM:-0800
TZOFFSETTO:-0700
TZNAME:PDT
DTSTART:20240310T100000
END:DAYLIGHT
BEGIN:STANDARD
TZOFFSETFROM:-0700
TZOFFSETTO:-0800
TZNAME:PST
DTSTART:20241103T090000
END:STANDARD
BEGIN:DAYLIGHT
TZOFFSETFROM:-0800
TZOFFSETTO:-0700
TZNAME:PDT
DTSTART:20250309T100000
END:DAYLIGHT
BEGIN:STANDARD
TZOFFSETFROM:-0700
TZOFFSETTO:-0800
TZNAME:PST
DTSTART:20251102T090000
END:STANDARD
BEGIN:DAYLIGHT
TZOFFSETFROM:-0800
TZOFFSETTO:-0700
TZNAME:PDT
DTSTART:20260308T100000
END:DAYLIGHT
BEGIN:STANDARD
TZOFFSETFROM:-0700
TZOFFSETTO:-0800
TZNAME:PST
DTSTART:20261101T090000
END:STANDARD
END:VTIMEZONE
BEGIN:VEVENT
DTSTART;TZID=America/Tijuana:20250105T120000
DTEND;TZID=America/Tijuana:20250105T150000
DTSTAMP:20260419T165438
CREATED:20241227T212625Z
LAST-MODIFIED:20241227T212625Z
UID:272-1736078400-1736089200@www.orfila.com
SUMMARY:Music: Matt Heinecke
DESCRIPTION:Music: Matt Heinecke
URL:https://www.orfila.com/event/music-matt-heinecke-2/
LOCATION:CA
END:VEVENT
BEGIN:VEVENT
DTSTART;TZID=America/Tijuana:20250105T153000
DTEND;TZID=America/Tijuana:20250105T183000
DTSTAMP:20260419T165438
CREATED:20241227T212807Z
LAST-MODIFIED:20241227T212807Z
UID:273-1736091000-1736101800@www.orfila.com
SUMMARY:Music: Shea Givens
DESCRIPTION:Music: Shea Givens
URL:https://www.orfila.com/event/music-shea-givens-2/
LOCATION:CA
END:VEVENT
END:VCALENDAR