BEGIN:VCALENDAR
VERSION:2.0
PRODID:-//Orfila Vineyards &amp; Winery - ECPv6.15.20//NONSGML v1.0//EN
CALSCALE:GREGORIAN
METHOD:PUBLISH
X-WR-CALNAME:Orfila Vineyards &amp; Winery
X-ORIGINAL-URL:https://www.orfila.com
X-WR-CALDESC:Events for Orfila Vineyards &amp; Winery
REFRESH-INTERVAL;VALUE=DURATION:PT1H
X-Robots-Tag:noindex
X-PUBLISHED-TTL:PT1H
BEGIN:VTIMEZONE
TZID:America/Tijuana
BEGIN:DAYLIGHT
TZOFFSETFROM:-0800
TZOFFSETTO:-0700
TZNAME:PDT
DTSTART:20240310T100000
END:DAYLIGHT
BEGIN:STANDARD
TZOFFSETFROM:-0700
TZOFFSETTO:-0800
TZNAME:PST
DTSTART:20241103T090000
END:STANDARD
BEGIN:DAYLIGHT
TZOFFSETFROM:-0800
TZOFFSETTO:-0700
TZNAME:PDT
DTSTART:20250309T100000
END:DAYLIGHT
BEGIN:STANDARD
TZOFFSETFROM:-0700
TZOFFSETTO:-0800
TZNAME:PST
DTSTART:20251102T090000
END:STANDARD
BEGIN:DAYLIGHT
TZOFFSETFROM:-0800
TZOFFSETTO:-0700
TZNAME:PDT
DTSTART:20260308T100000
END:DAYLIGHT
BEGIN:STANDARD
TZOFFSETFROM:-0700
TZOFFSETTO:-0800
TZNAME:PST
DTSTART:20261101T090000
END:STANDARD
END:VTIMEZONE
BEGIN:VEVENT
DTSTART;TZID=America/Tijuana:20250213T190000
DTEND;TZID=America/Tijuana:20250213T210000
DTSTAMP:20260423T114948
CREATED:20250110T190753Z
LAST-MODIFIED:20250110T190753Z
UID:296-1739473200-1739480400@www.orfila.com
SUMMARY:Comedy Night at Orfila!
DESCRIPTION:Come join us at Orfila Vineyards and Winery for a night full of laughter and good vibes! Our Comedy Night event promises to tickle your funny bone with hilarious stand-up performances by headliner Don Frisen featuring Josh Lawson. Grab a glass of wine\, sit back\, and get ready to LOL all night long. Don’t miss out on this evening of fun and entertainment! We will have Grab and Go Sandwiches and Salads available for purchase as well as Orfila wine! \n21+ | $25 \nClick HERE for tickets!
URL:https://www.orfila.com/event/comedy-night-at-orfila-3/
LOCATION:CA
ATTACH;FMTTYPE=image/jpeg:https://www.orfila.com/wp-content/uploads/2025/11/Don-Friesen.jpg
END:VEVENT
END:VCALENDAR