BEGIN:VCALENDAR
VERSION:2.0
PRODID:-//Orfila Vineyards &amp; Winery - ECPv6.15.20//NONSGML v1.0//EN
CALSCALE:GREGORIAN
METHOD:PUBLISH
X-WR-CALNAME:Orfila Vineyards &amp; Winery
X-ORIGINAL-URL:https://www.orfila.com
X-WR-CALDESC:Events for Orfila Vineyards &amp; Winery
REFRESH-INTERVAL;VALUE=DURATION:PT1H
X-Robots-Tag:noindex
X-PUBLISHED-TTL:PT1H
BEGIN:VTIMEZONE
TZID:America/Tijuana
BEGIN:DAYLIGHT
TZOFFSETFROM:-0800
TZOFFSETTO:-0700
TZNAME:PDT
DTSTART:20240310T100000
END:DAYLIGHT
BEGIN:STANDARD
TZOFFSETFROM:-0700
TZOFFSETTO:-0800
TZNAME:PST
DTSTART:20241103T090000
END:STANDARD
BEGIN:DAYLIGHT
TZOFFSETFROM:-0800
TZOFFSETTO:-0700
TZNAME:PDT
DTSTART:20250309T100000
END:DAYLIGHT
BEGIN:STANDARD
TZOFFSETFROM:-0700
TZOFFSETTO:-0800
TZNAME:PST
DTSTART:20251102T090000
END:STANDARD
BEGIN:DAYLIGHT
TZOFFSETFROM:-0800
TZOFFSETTO:-0700
TZNAME:PDT
DTSTART:20260308T100000
END:DAYLIGHT
BEGIN:STANDARD
TZOFFSETFROM:-0700
TZOFFSETTO:-0800
TZNAME:PST
DTSTART:20261101T090000
END:STANDARD
END:VTIMEZONE
BEGIN:VEVENT
DTSTART;TZID=America/Tijuana:20250216T120000
DTEND;TZID=America/Tijuana:20250216T150000
DTSTAMP:20260420T024254
CREATED:20250129T173135Z
LAST-MODIFIED:20250129T173135Z
UID:313-1739707200-1739718000@www.orfila.com
SUMMARY:Music: Keni Yarbro
DESCRIPTION:Music: Keni Yarbro
URL:https://www.orfila.com/event/music-keni-yarbro-3/
LOCATION:CA
END:VEVENT
BEGIN:VEVENT
DTSTART;TZID=America/Tijuana:20250216T153000
DTEND;TZID=America/Tijuana:20250216T183000
DTSTAMP:20260420T024254
CREATED:20250129T173221Z
LAST-MODIFIED:20250129T173221Z
UID:314-1739719800-1739730600@www.orfila.com
SUMMARY:Music: Jarred Matthew
DESCRIPTION:Music: Jarred Matthew
URL:https://www.orfila.com/event/music-jarred-matthew/
LOCATION:CA
END:VEVENT
END:VCALENDAR