BEGIN:VCALENDAR
VERSION:2.0
PRODID:-//Orfila Vineyards &amp; Winery - ECPv6.15.20//NONSGML v1.0//EN
CALSCALE:GREGORIAN
METHOD:PUBLISH
X-ORIGINAL-URL:https://www.orfila.com
X-WR-CALDESC:Events for Orfila Vineyards &amp; Winery
REFRESH-INTERVAL;VALUE=DURATION:PT1H
X-Robots-Tag:noindex
X-PUBLISHED-TTL:PT1H
BEGIN:VTIMEZONE
TZID:America/Tijuana
BEGIN:DAYLIGHT
TZOFFSETFROM:-0800
TZOFFSETTO:-0700
TZNAME:PDT
DTSTART:20240310T100000
END:DAYLIGHT
BEGIN:STANDARD
TZOFFSETFROM:-0700
TZOFFSETTO:-0800
TZNAME:PST
DTSTART:20241103T090000
END:STANDARD
BEGIN:DAYLIGHT
TZOFFSETFROM:-0800
TZOFFSETTO:-0700
TZNAME:PDT
DTSTART:20250309T100000
END:DAYLIGHT
BEGIN:STANDARD
TZOFFSETFROM:-0700
TZOFFSETTO:-0800
TZNAME:PST
DTSTART:20251102T090000
END:STANDARD
BEGIN:DAYLIGHT
TZOFFSETFROM:-0800
TZOFFSETTO:-0700
TZNAME:PDT
DTSTART:20260308T100000
END:DAYLIGHT
BEGIN:STANDARD
TZOFFSETFROM:-0700
TZOFFSETTO:-0800
TZNAME:PST
DTSTART:20261101T090000
END:STANDARD
END:VTIMEZONE
BEGIN:VEVENT
DTSTART;TZID=America/Tijuana:20250620T120000
DTEND;TZID=America/Tijuana:20250620T150000
DTSTAMP:20260420T142651
CREATED:20250529T220227Z
LAST-MODIFIED:20250529T220227Z
UID:411-1750420800-1750431600@www.orfila.com
SUMMARY:Live Music: Kyler J.
DESCRIPTION:
URL:https://www.orfila.com/event/live-music-kyler-j-4/
LOCATION:CA
CATEGORIES:Music
END:VEVENT
BEGIN:VEVENT
DTSTART;TZID=America/Tijuana:20250620T170000
DTEND;TZID=America/Tijuana:20250620T220000
DTSTAMP:20260420T142651
CREATED:20250528T183535Z
LAST-MODIFIED:20250528T183535Z
UID:398-1750438800-1750456800@www.orfila.com
SUMMARY:Fired Up: Wine\, Cooking\, & Cigar Night at Orfila
DESCRIPTION:Gain some skills at Orfila and experience the joy of making your own fresh pasta paired with a delicious glass of wine. The night’s not over yet\, after your nice and full from your own pasta dinner\, learn how to roll your own cigar!\nTicket Includes:-Welcome Splash of Wine-1 Drink Ticket-Pasta-Making Class-Cigar Rolling Class\n$175 per person+ $75 per plus one\nCheck out our Ticket Add-on menu to bring an additional guest.\n\nGet Tickets
URL:https://www.orfila.com/event/fired-up-wine-cooking-cigar-night-at-orfila/
LOCATION:CA
END:VEVENT
END:VCALENDAR