BEGIN:VCALENDAR
VERSION:2.0
PRODID:-//Orfila Vineyards &amp; Winery - ECPv6.15.20//NONSGML v1.0//EN
CALSCALE:GREGORIAN
METHOD:PUBLISH
X-WR-CALNAME:Orfila Vineyards &amp; Winery
X-ORIGINAL-URL:https://www.orfila.com
X-WR-CALDESC:Events for Orfila Vineyards &amp; Winery
REFRESH-INTERVAL;VALUE=DURATION:PT1H
X-Robots-Tag:noindex
X-PUBLISHED-TTL:PT1H
BEGIN:VTIMEZONE
TZID:America/Tijuana
BEGIN:DAYLIGHT
TZOFFSETFROM:-0800
TZOFFSETTO:-0700
TZNAME:PDT
DTSTART:20240310T100000
END:DAYLIGHT
BEGIN:STANDARD
TZOFFSETFROM:-0700
TZOFFSETTO:-0800
TZNAME:PST
DTSTART:20241103T090000
END:STANDARD
BEGIN:DAYLIGHT
TZOFFSETFROM:-0800
TZOFFSETTO:-0700
TZNAME:PDT
DTSTART:20250309T100000
END:DAYLIGHT
BEGIN:STANDARD
TZOFFSETFROM:-0700
TZOFFSETTO:-0800
TZNAME:PST
DTSTART:20251102T090000
END:STANDARD
BEGIN:DAYLIGHT
TZOFFSETFROM:-0800
TZOFFSETTO:-0700
TZNAME:PDT
DTSTART:20260308T100000
END:DAYLIGHT
BEGIN:STANDARD
TZOFFSETFROM:-0700
TZOFFSETTO:-0800
TZNAME:PST
DTSTART:20261101T090000
END:STANDARD
END:VTIMEZONE
BEGIN:VEVENT
DTSTART;TZID=America/Tijuana:20250722T170000
DTEND;TZID=America/Tijuana:20250722T190000
DTSTAMP:20260422T183524
CREATED:20250624T204316Z
LAST-MODIFIED:20250624T204316Z
UID:419-1753203600-1753210800@www.orfila.com
SUMMARY:Art with Larisse: Paint & Sip
DESCRIPTION:July 22nd | 5 pm | $30 | 21+ \n\nJoin us for an evening of fun at our Escondido Orfila location! Learn how to paint this beautiful painting project while enjoying your favorite wine! Supplies included along with a 2 hour painting lesson. All supplies will be waiting at the vineyard for your paint night experience. Cost of class does not include wine. Please purchase snacks from the winery as no outside food is allowed.
URL:https://www.orfila.com/event/art-with-larisse-paint-sip-2/
LOCATION:CA
CATEGORIES:Events
END:VEVENT
END:VCALENDAR