BEGIN:VCALENDAR
VERSION:2.0
PRODID:-//Orfila Vineyards &amp; Winery - ECPv6.15.20//NONSGML v1.0//EN
CALSCALE:GREGORIAN
METHOD:PUBLISH
X-WR-CALNAME:Orfila Vineyards &amp; Winery
X-ORIGINAL-URL:https://www.orfila.com
X-WR-CALDESC:Events for Orfila Vineyards &amp; Winery
REFRESH-INTERVAL;VALUE=DURATION:PT1H
X-Robots-Tag:noindex
X-PUBLISHED-TTL:PT1H
BEGIN:VTIMEZONE
TZID:America/Tijuana
BEGIN:DAYLIGHT
TZOFFSETFROM:-0800
TZOFFSETTO:-0700
TZNAME:PDT
DTSTART:20240310T100000
END:DAYLIGHT
BEGIN:STANDARD
TZOFFSETFROM:-0700
TZOFFSETTO:-0800
TZNAME:PST
DTSTART:20241103T090000
END:STANDARD
BEGIN:DAYLIGHT
TZOFFSETFROM:-0800
TZOFFSETTO:-0700
TZNAME:PDT
DTSTART:20250309T100000
END:DAYLIGHT
BEGIN:STANDARD
TZOFFSETFROM:-0700
TZOFFSETTO:-0800
TZNAME:PST
DTSTART:20251102T090000
END:STANDARD
BEGIN:DAYLIGHT
TZOFFSETFROM:-0800
TZOFFSETTO:-0700
TZNAME:PDT
DTSTART:20260308T100000
END:DAYLIGHT
BEGIN:STANDARD
TZOFFSETFROM:-0700
TZOFFSETTO:-0800
TZNAME:PST
DTSTART:20261101T090000
END:STANDARD
END:VTIMEZONE
BEGIN:VEVENT
DTSTART;TZID=America/Tijuana:20251003T160000
DTEND;TZID=America/Tijuana:20251003T210000
DTSTAMP:20260420T000400
CREATED:20250930T164114Z
LAST-MODIFIED:20250930T164114Z
UID:472-1759507200-1759525200@www.orfila.com
SUMMARY:Drinking in the Vines!
DESCRIPTION:Drink in the Orfila Vineyard this Friday at 4PM! The Guest Lawn is opening this weekend on October 3rd and we’re throwing a little vineyard celebration! Come hang out with us for full wine service\, fresh Amalfi pizza\, and live music to set the vibe all evening long. It’s the perfect way to soak up the vineyard magic! \nPlease note that the tasting room\, patio\, park\, and upper parking will close at 4:00 PM that day for a private event\, but the Guest Lawn where you will be able to drink in the vines will be buzzing with good wine\, good food\, and good tunes! Thank you for your understanding.
URL:https://www.orfila.com/event/dinner-in-the-vines/
LOCATION:CA
CATEGORIES:Events,Music
END:VEVENT
BEGIN:VEVENT
DTSTART;TZID=America/Tijuana:20251003T170000
DTEND;TZID=America/Tijuana:20251003T200000
DTSTAMP:20260420T000400
CREATED:20250906T052803Z
LAST-MODIFIED:20250906T052803Z
UID:455-1759510800-1759521600@www.orfila.com
SUMMARY:Live Music - Fercho
DESCRIPTION:Come sip your favorite wines and unwind as Fercho fills the vineyard with the smooth sounds of Latin and World music!
URL:https://www.orfila.com/event/live-music-fercho-10/
LOCATION:CA
CATEGORIES:Music
END:VEVENT
END:VCALENDAR