BEGIN:VCALENDAR
VERSION:2.0
PRODID:-//Orfila Vineyards &amp; Winery - ECPv6.15.20//NONSGML v1.0//EN
CALSCALE:GREGORIAN
METHOD:PUBLISH
X-WR-CALNAME:Orfila Vineyards &amp; Winery
X-ORIGINAL-URL:https://www.orfila.com
X-WR-CALDESC:Events for Orfila Vineyards &amp; Winery
REFRESH-INTERVAL;VALUE=DURATION:PT1H
X-Robots-Tag:noindex
X-PUBLISHED-TTL:PT1H
BEGIN:VTIMEZONE
TZID:America/Tijuana
BEGIN:DAYLIGHT
TZOFFSETFROM:-0800
TZOFFSETTO:-0700
TZNAME:PDT
DTSTART:20240310T100000
END:DAYLIGHT
BEGIN:STANDARD
TZOFFSETFROM:-0700
TZOFFSETTO:-0800
TZNAME:PST
DTSTART:20241103T090000
END:STANDARD
BEGIN:DAYLIGHT
TZOFFSETFROM:-0800
TZOFFSETTO:-0700
TZNAME:PDT
DTSTART:20250309T100000
END:DAYLIGHT
BEGIN:STANDARD
TZOFFSETFROM:-0700
TZOFFSETTO:-0800
TZNAME:PST
DTSTART:20251102T090000
END:STANDARD
BEGIN:DAYLIGHT
TZOFFSETFROM:-0800
TZOFFSETTO:-0700
TZNAME:PDT
DTSTART:20260308T100000
END:DAYLIGHT
BEGIN:STANDARD
TZOFFSETFROM:-0700
TZOFFSETTO:-0800
TZNAME:PST
DTSTART:20261101T090000
END:STANDARD
END:VTIMEZONE
BEGIN:VEVENT
DTSTART;TZID=America/Tijuana:20251025T130000
DTEND;TZID=America/Tijuana:20251025T170000
DTSTAMP:20260420T000412
CREATED:20251009T212919Z
LAST-MODIFIED:20251009T212919Z
UID:495-1761397200-1761411600@www.orfila.com
SUMMARY:Live Music -
DESCRIPTION:Blaise Guld performs an energetic blend of Top 40\, Pop\, Folk\, and Rock\, offering total variety with a dynamic sound that keeps every crowd engaged and singing along!
URL:https://www.orfila.com/event/live-music/
LOCATION:CA
END:VEVENT
BEGIN:VEVENT
DTSTART;TZID=America/Tijuana:20251025T130000
DTEND;TZID=America/Tijuana:20251025T200000
DTSTAMP:20260420T000412
CREATED:20251003T181247Z
LAST-MODIFIED:20251003T181247Z
UID:484-1761397200-1761422400@www.orfila.com
SUMMARY:Vintage Wine Tasting - Meet our Winemaker Andrew!
DESCRIPTION:Mark your calendars for Vintage Wine Tasting Weekend\, October 24–26! This is your chance to sip some of our most special pours and experience an unforgettable tasting guided by the one and only Andrew\, our winemaker. Think of it as a backstage pass to the vineyard—come meet the man behind the wines (basically a celebrity moment!) and hear the stories that make each glass so unique. Don’t miss this rare opportunity to taste\, learn\, and connect in the heart of the vines.
URL:https://www.orfila.com/event/vintage-wine-tasting-meet-our-winemaker-andrew-2/
LOCATION:CA
CATEGORIES:Events
END:VEVENT
BEGIN:VEVENT
DTSTART;TZID=America/Tijuana:20251025T170000
DTEND;TZID=America/Tijuana:20251025T210000
DTSTAMP:20260420T000412
CREATED:20250930T200202Z
LAST-MODIFIED:20250930T200202Z
UID:476-1761411600-1761426000@www.orfila.com
SUMMARY:DJ Night - GERMANY
DESCRIPTION:Guten Abend! Join us at Orfila for Germany Night: Oktoberfest Bash — our wine-lover’s twist on the world’s most famous festival! Feast on bratwurst\, schnitzel\, and warm pretzels with a full mustard bar while sipping cozy Glühwein served in mugs or a crisp Riesling Radler. The evening kicks off with Bavarian polka remixes before the DJ takes it into a high-energy dance party. With blue-and-white checkered banners\, a faux beer garden\, and wine stein props setting the scene\, it’s Oktoberfest like you’ve never seen it before. Dress up in German-inspired style — lederhosen\, dirndls\, or your best Bavarian winery look — and help us close out our Dance Around the World series in grand style!  ✨
URL:https://www.orfila.com/event/dj-night-germany%f0%9f%87%a9%f0%9f%87%aa/
LOCATION:CA
CATEGORIES:Events,Music
END:VEVENT
END:VCALENDAR