BEGIN:VCALENDAR
VERSION:2.0
PRODID:-//Orfila Vineyards &amp; Winery - ECPv6.15.20//NONSGML v1.0//EN
CALSCALE:GREGORIAN
METHOD:PUBLISH
X-ORIGINAL-URL:https://www.orfila.com
X-WR-CALDESC:Events for Orfila Vineyards &amp; Winery
REFRESH-INTERVAL;VALUE=DURATION:PT1H
X-Robots-Tag:noindex
X-PUBLISHED-TTL:PT1H
BEGIN:VTIMEZONE
TZID:America/Tijuana
BEGIN:DAYLIGHT
TZOFFSETFROM:-0800
TZOFFSETTO:-0700
TZNAME:PDT
DTSTART:20240310T100000
END:DAYLIGHT
BEGIN:STANDARD
TZOFFSETFROM:-0700
TZOFFSETTO:-0800
TZNAME:PST
DTSTART:20241103T090000
END:STANDARD
BEGIN:DAYLIGHT
TZOFFSETFROM:-0800
TZOFFSETTO:-0700
TZNAME:PDT
DTSTART:20250309T100000
END:DAYLIGHT
BEGIN:STANDARD
TZOFFSETFROM:-0700
TZOFFSETTO:-0800
TZNAME:PST
DTSTART:20251102T090000
END:STANDARD
BEGIN:DAYLIGHT
TZOFFSETFROM:-0800
TZOFFSETTO:-0700
TZNAME:PDT
DTSTART:20260308T100000
END:DAYLIGHT
BEGIN:STANDARD
TZOFFSETFROM:-0700
TZOFFSETTO:-0800
TZNAME:PST
DTSTART:20261101T090000
END:STANDARD
END:VTIMEZONE
BEGIN:VEVENT
DTSTART;TZID=America/Tijuana:20251028T170000
DTEND;TZID=America/Tijuana:20251028T190000
DTSTAMP:20260422T222556
CREATED:20251001T191448Z
LAST-MODIFIED:20251122T055514Z
UID:481-1761670800-1761678000@www.orfila.com
SUMMARY:Paint and Sip!
DESCRIPTION:Join us for an evening of fun at our Escondido Orfila location! Tickets are available below. Learn how to paint this beautiful painting project while enjoying your favorite wine! Supplies are provided along with a 2 hour painting lesson. All supplies will be waiting at the vineyard for your paint night experience. Cost of class does not include wine. Please purchase ticket using link below. Can’t wait to see you! \nScreenshot
URL:https://www.orfila.com/event/paint-and-sip-2/
LOCATION:CA
CATEGORIES:Events,Music
ATTACH;FMTTYPE=image/jpeg:https://www.orfila.com/wp-content/uploads/2025/11/IMG_7360.jpeg
END:VEVENT
END:VCALENDAR