BEGIN:VCALENDAR
VERSION:2.0
PRODID:-//Orfila Vineyards &amp; Winery - ECPv6.15.20//NONSGML v1.0//EN
CALSCALE:GREGORIAN
METHOD:PUBLISH
X-ORIGINAL-URL:https://www.orfila.com
X-WR-CALDESC:Events for Orfila Vineyards &amp; Winery
REFRESH-INTERVAL;VALUE=DURATION:PT1H
X-Robots-Tag:noindex
X-PUBLISHED-TTL:PT1H
BEGIN:VTIMEZONE
TZID:America/Tijuana
BEGIN:DAYLIGHT
TZOFFSETFROM:-0800
TZOFFSETTO:-0700
TZNAME:PDT
DTSTART:20240310T100000
END:DAYLIGHT
BEGIN:STANDARD
TZOFFSETFROM:-0700
TZOFFSETTO:-0800
TZNAME:PST
DTSTART:20241103T090000
END:STANDARD
BEGIN:DAYLIGHT
TZOFFSETFROM:-0800
TZOFFSETTO:-0700
TZNAME:PDT
DTSTART:20250309T100000
END:DAYLIGHT
BEGIN:STANDARD
TZOFFSETFROM:-0700
TZOFFSETTO:-0800
TZNAME:PST
DTSTART:20251102T090000
END:STANDARD
BEGIN:DAYLIGHT
TZOFFSETFROM:-0800
TZOFFSETTO:-0700
TZNAME:PDT
DTSTART:20260308T100000
END:DAYLIGHT
BEGIN:STANDARD
TZOFFSETFROM:-0700
TZOFFSETTO:-0800
TZNAME:PST
DTSTART:20261101T090000
END:STANDARD
END:VTIMEZONE
BEGIN:VEVENT
DTSTART;TZID=America/Tijuana:20251101T130000
DTEND;TZID=America/Tijuana:20251101T160000
DTSTAMP:20260420T035346
CREATED:20251029T094339Z
LAST-MODIFIED:20251029T094339Z
UID:518-1762002000-1762012800@www.orfila.com
SUMMARY:Live Music in the Park - Olivia Rohde
DESCRIPTION:Join us for Olivia’s SoCal Rock performance with a country-pop twist and a splash of 80’s beach vibes! Energetic\, fun\, and pure California feel-good sound.
URL:https://www.orfila.com/event/live-music-olivia-rohde-3/
LOCATION:CA
CATEGORIES:Music
END:VEVENT
BEGIN:VEVENT
DTSTART;TZID=America/Tijuana:20251101T170000
DTEND;TZID=America/Tijuana:20251101T210000
DTSTAMP:20260420T035346
CREATED:20251014T001147Z
LAST-MODIFIED:20251014T001147Z
UID:505-1762016400-1762030800@www.orfila.com
SUMMARY:DJ Night- Corks & Country
DESCRIPTION:Get ready to dance! DJ Jimmy Grizzley is bringing the beats to Orfila DJ Night — mixing classics\, party hits\, and feel-good vibes all night long. Don’t miss it!
URL:https://www.orfila.com/event/dj-night-jimmy-grizzley/
LOCATION:CA
CATEGORIES:Events,Music
END:VEVENT
END:VCALENDAR