BEGIN:VCALENDAR
VERSION:2.0
PRODID:-//Orfila Vineyards &amp; Winery - ECPv6.15.20//NONSGML v1.0//EN
CALSCALE:GREGORIAN
METHOD:PUBLISH
X-ORIGINAL-URL:https://www.orfila.com
X-WR-CALDESC:Events for Orfila Vineyards &amp; Winery
REFRESH-INTERVAL;VALUE=DURATION:PT1H
X-Robots-Tag:noindex
X-PUBLISHED-TTL:PT1H
BEGIN:VTIMEZONE
TZID:America/Tijuana
BEGIN:DAYLIGHT
TZOFFSETFROM:-0800
TZOFFSETTO:-0700
TZNAME:PDT
DTSTART:20240310T100000
END:DAYLIGHT
BEGIN:STANDARD
TZOFFSETFROM:-0700
TZOFFSETTO:-0800
TZNAME:PST
DTSTART:20241103T090000
END:STANDARD
BEGIN:DAYLIGHT
TZOFFSETFROM:-0800
TZOFFSETTO:-0700
TZNAME:PDT
DTSTART:20250309T100000
END:DAYLIGHT
BEGIN:STANDARD
TZOFFSETFROM:-0700
TZOFFSETTO:-0800
TZNAME:PST
DTSTART:20251102T090000
END:STANDARD
BEGIN:DAYLIGHT
TZOFFSETFROM:-0800
TZOFFSETTO:-0700
TZNAME:PDT
DTSTART:20260308T100000
END:DAYLIGHT
BEGIN:STANDARD
TZOFFSETFROM:-0700
TZOFFSETTO:-0800
TZNAME:PST
DTSTART:20261101T090000
END:STANDARD
END:VTIMEZONE
BEGIN:VEVENT
DTSTART;TZID=America/Tijuana:20251102T120000
DTEND;TZID=America/Tijuana:20251102T150000
DTSTAMP:20260420T054557
CREATED:20251029T094533Z
LAST-MODIFIED:20251029T094533Z
UID:519-1762084800-1762095600@www.orfila.com
SUMMARY:Live Music - Blaise Guld
DESCRIPTION:Blaise Guld – Top 40 pop\, folk\, and a touch of rock. A total variety performer bringing smooth vocals and feel-good hits to Orfila Winery!
URL:https://www.orfila.com/event/live-music-blaise-guld-4/
LOCATION:CA
CATEGORIES:Music
END:VEVENT
BEGIN:VEVENT
DTSTART;TZID=America/Tijuana:20251102T120000
DTEND;TZID=America/Tijuana:20251102T150000
DTSTAMP:20260420T054557
CREATED:20251031T230151Z
LAST-MODIFIED:20251031T230151Z
UID:535-1762084800-1762095600@www.orfila.com
SUMMARY:Harvest Fundraiser
DESCRIPTION:A night to give back\, toast the harvest\, and make memories in the vines!
URL:https://www.orfila.com/event/harvest-fundraiser/
LOCATION:CA
CATEGORIES:Events
END:VEVENT
BEGIN:VEVENT
DTSTART;TZID=America/Tijuana:20251102T160000
DTEND;TZID=America/Tijuana:20251102T200000
DTSTAMP:20260420T054557
CREATED:20250917T225652Z
LAST-MODIFIED:20250917T225652Z
UID:471-1762099200-1762113600@www.orfila.com
SUMMARY:Andrew Peña - Live Music
DESCRIPTION:Come enjoy Andrew Peña live at the winery — Rock\, Pop\, Top 40\, and even some Karaoke fun!
URL:https://www.orfila.com/event/andrew-pena-live-music/
LOCATION:CA
CATEGORIES:Music
END:VEVENT
END:VCALENDAR