BEGIN:VCALENDAR
VERSION:2.0
PRODID:-//Orfila Vineyards &amp; Winery - ECPv6.15.20//NONSGML v1.0//EN
CALSCALE:GREGORIAN
METHOD:PUBLISH
X-WR-CALNAME:Orfila Vineyards &amp; Winery
X-ORIGINAL-URL:https://www.orfila.com
X-WR-CALDESC:Events for Orfila Vineyards &amp; Winery
REFRESH-INTERVAL;VALUE=DURATION:PT1H
X-Robots-Tag:noindex
X-PUBLISHED-TTL:PT1H
BEGIN:VTIMEZONE
TZID:America/Tijuana
BEGIN:DAYLIGHT
TZOFFSETFROM:-0800
TZOFFSETTO:-0700
TZNAME:PDT
DTSTART:20240310T100000
END:DAYLIGHT
BEGIN:STANDARD
TZOFFSETFROM:-0700
TZOFFSETTO:-0800
TZNAME:PST
DTSTART:20241103T090000
END:STANDARD
BEGIN:DAYLIGHT
TZOFFSETFROM:-0800
TZOFFSETTO:-0700
TZNAME:PDT
DTSTART:20250309T100000
END:DAYLIGHT
BEGIN:STANDARD
TZOFFSETFROM:-0700
TZOFFSETTO:-0800
TZNAME:PST
DTSTART:20251102T090000
END:STANDARD
BEGIN:DAYLIGHT
TZOFFSETFROM:-0800
TZOFFSETTO:-0700
TZNAME:PDT
DTSTART:20260308T100000
END:DAYLIGHT
BEGIN:STANDARD
TZOFFSETFROM:-0700
TZOFFSETTO:-0800
TZNAME:PST
DTSTART:20261101T090000
END:STANDARD
END:VTIMEZONE
BEGIN:VEVENT
DTSTART;TZID=America/Tijuana:20251105T170000
DTEND;TZID=America/Tijuana:20251105T190000
DTSTAMP:20260422T184540
CREATED:20251021T114634Z
LAST-MODIFIED:20251021T114634Z
UID:517-1762362000-1762369200@www.orfila.com
SUMMARY:Paint and Sip!
DESCRIPTION:Learn how to paint this beautiful painting project while enjoying your favorite wine\, tickets are available below! Supplies are provided along with a 2 hour painting lesson. Cost of class does not include wine. All supplies for painting on canvas with acrylic will be waiting at the vineyard for your paint night experience. No need to pick up anything at a studio. Just arrive at the winery at 5:00\, come earlier to purchase your wine\, and we’ll see you soon! Please purchase ticket using link below. Questions? Email Larisse at artwithlarisse@gmail.com
URL:https://www.orfila.com/event/paint-and-sip-6/
LOCATION:CA
CATEGORIES:Events
END:VEVENT
BEGIN:VEVENT
DTSTART;TZID=America/Tijuana:20251105T170000
DTEND;TZID=America/Tijuana:20251105T200000
DTSTAMP:20260422T184540
CREATED:20251009T214124Z
LAST-MODIFIED:20251009T214124Z
UID:499-1762362000-1762372800@www.orfila.com
SUMMARY:Live Music - Jason Graham
DESCRIPTION:Jason Graham brings a dynamic live music experience with a blend of Pop\, Classic Rock\, and Total Variety\, delivering crowd favorites and feel-good energy that keep the vibes high all night!
URL:https://www.orfila.com/event/live-music-jason-graham-2/
LOCATION:CA
CATEGORIES:Music
END:VEVENT
END:VCALENDAR