BEGIN:VCALENDAR
VERSION:2.0
PRODID:-//Orfila Vineyards &amp; Winery - ECPv6.15.20//NONSGML v1.0//EN
CALSCALE:GREGORIAN
METHOD:PUBLISH
X-ORIGINAL-URL:https://www.orfila.com
X-WR-CALDESC:Events for Orfila Vineyards &amp; Winery
REFRESH-INTERVAL;VALUE=DURATION:PT1H
X-Robots-Tag:noindex
X-PUBLISHED-TTL:PT1H
BEGIN:VTIMEZONE
TZID:America/Tijuana
BEGIN:DAYLIGHT
TZOFFSETFROM:-0800
TZOFFSETTO:-0700
TZNAME:PDT
DTSTART:20240310T100000
END:DAYLIGHT
BEGIN:STANDARD
TZOFFSETFROM:-0700
TZOFFSETTO:-0800
TZNAME:PST
DTSTART:20241103T090000
END:STANDARD
BEGIN:DAYLIGHT
TZOFFSETFROM:-0800
TZOFFSETTO:-0700
TZNAME:PDT
DTSTART:20250309T100000
END:DAYLIGHT
BEGIN:STANDARD
TZOFFSETFROM:-0700
TZOFFSETTO:-0800
TZNAME:PST
DTSTART:20251102T090000
END:STANDARD
BEGIN:DAYLIGHT
TZOFFSETFROM:-0800
TZOFFSETTO:-0700
TZNAME:PDT
DTSTART:20260308T100000
END:DAYLIGHT
BEGIN:STANDARD
TZOFFSETFROM:-0700
TZOFFSETTO:-0800
TZNAME:PST
DTSTART:20261101T090000
END:STANDARD
END:VTIMEZONE
BEGIN:VEVENT
DTSTART;TZID=America/Tijuana:20251106T170000
DTEND;TZID=America/Tijuana:20251106T200000
DTSTAMP:20260424T134540
CREATED:20251009T214231Z
LAST-MODIFIED:20251009T214231Z
UID:500-1762448400-1762459200@www.orfila.com
SUMMARY:Live Music - David Rosales
DESCRIPTION:David Rosales brings the perfect live music vibe to Orfila Winery with a smooth mix of Surf Rock\, Folk\, Americana\, Country\, and Jack Johnson–style rhythms that capture the essence of California’s easygoing coastal sound!
URL:https://www.orfila.com/event/live-music-david-rosales/
LOCATION:CA
CATEGORIES:Music
END:VEVENT
BEGIN:VEVENT
DTSTART;TZID=America/Tijuana:20251106T173000
DTEND;TZID=America/Tijuana:20251106T203000
DTSTAMP:20260424T134540
CREATED:20251015T172208Z
LAST-MODIFIED:20251015T172208Z
UID:513-1762450200-1762461000@www.orfila.com
SUMMARY:Live Prize Trivia Night!
DESCRIPTION:Win WINE PRIZES — 1st place: case of wine\, 2nd: 6 bottles\, 3rd: 3 bottles! Bring a team\, test your knowledge\, sip some win\, and HAVE FUN!!!
URL:https://www.orfila.com/event/live-prize-trivia-night-4/
LOCATION:CA
CATEGORIES:Events
END:VEVENT
END:VCALENDAR