BEGIN:VCALENDAR
VERSION:2.0
PRODID:-//Orfila Vineyards &amp; Winery - ECPv6.15.20//NONSGML v1.0//EN
CALSCALE:GREGORIAN
METHOD:PUBLISH
X-ORIGINAL-URL:https://www.orfila.com
X-WR-CALDESC:Events for Orfila Vineyards &amp; Winery
REFRESH-INTERVAL;VALUE=DURATION:PT1H
X-Robots-Tag:noindex
X-PUBLISHED-TTL:PT1H
BEGIN:VTIMEZONE
TZID:America/Tijuana
BEGIN:DAYLIGHT
TZOFFSETFROM:-0800
TZOFFSETTO:-0700
TZNAME:PDT
DTSTART:20240310T100000
END:DAYLIGHT
BEGIN:STANDARD
TZOFFSETFROM:-0700
TZOFFSETTO:-0800
TZNAME:PST
DTSTART:20241103T090000
END:STANDARD
BEGIN:DAYLIGHT
TZOFFSETFROM:-0800
TZOFFSETTO:-0700
TZNAME:PDT
DTSTART:20250309T100000
END:DAYLIGHT
BEGIN:STANDARD
TZOFFSETFROM:-0700
TZOFFSETTO:-0800
TZNAME:PST
DTSTART:20251102T090000
END:STANDARD
BEGIN:DAYLIGHT
TZOFFSETFROM:-0800
TZOFFSETTO:-0700
TZNAME:PDT
DTSTART:20260308T100000
END:DAYLIGHT
BEGIN:STANDARD
TZOFFSETFROM:-0700
TZOFFSETTO:-0800
TZNAME:PST
DTSTART:20261101T090000
END:STANDARD
END:VTIMEZONE
BEGIN:VEVENT
DTSTART;TZID=America/Tijuana:20251123T120000
DTEND;TZID=America/Tijuana:20251123T150000
DTSTAMP:20260422T223357
CREATED:20251029T194129Z
LAST-MODIFIED:20251029T194129Z
UID:525-1763899200-1763910000@www.orfila.com
SUMMARY:Live Music- Jason Graham
DESCRIPTION:Jason Graham brings an easygoing mix of pop favorites\, classic rock anthems\, and total variety tunes — the perfect soundtrack for wine\, friends\, and sunset views in the vineyard!
URL:https://www.orfila.com/event/live-music-jason-graham-4/
LOCATION:CA
CATEGORIES:Music
END:VEVENT
BEGIN:VEVENT
DTSTART;TZID=America/Tijuana:20251123T160000
DTEND;TZID=America/Tijuana:20251123T200000
DTSTAMP:20260422T223357
CREATED:20250909T181058Z
LAST-MODIFIED:20250909T181058Z
UID:467-1763913600-1763928000@www.orfila.com
SUMMARY:Live Music - Matt Heinecke
DESCRIPTION:Enjoy a vibrant mix of Rock\, Pop\, and Total Variety with Matt Heinecke — the perfect soundtrack for wine and vineyard views.
URL:https://www.orfila.com/event/live-music-matt-heinecke-4/
LOCATION:CA
CATEGORIES:Music
END:VEVENT
END:VCALENDAR