BEGIN:VCALENDAR
VERSION:2.0
PRODID:-//Orfila Vineyards &amp; Winery - ECPv6.15.20//NONSGML v1.0//EN
CALSCALE:GREGORIAN
METHOD:PUBLISH
X-ORIGINAL-URL:https://www.orfila.com
X-WR-CALDESC:Events for Orfila Vineyards &amp; Winery
REFRESH-INTERVAL;VALUE=DURATION:PT1H
X-Robots-Tag:noindex
X-PUBLISHED-TTL:PT1H
BEGIN:VTIMEZONE
TZID:America/Tijuana
BEGIN:DAYLIGHT
TZOFFSETFROM:-0800
TZOFFSETTO:-0700
TZNAME:PDT
DTSTART:20240310T100000
END:DAYLIGHT
BEGIN:STANDARD
TZOFFSETFROM:-0700
TZOFFSETTO:-0800
TZNAME:PST
DTSTART:20241103T090000
END:STANDARD
BEGIN:DAYLIGHT
TZOFFSETFROM:-0800
TZOFFSETTO:-0700
TZNAME:PDT
DTSTART:20250309T100000
END:DAYLIGHT
BEGIN:STANDARD
TZOFFSETFROM:-0700
TZOFFSETTO:-0800
TZNAME:PST
DTSTART:20251102T090000
END:STANDARD
BEGIN:DAYLIGHT
TZOFFSETFROM:-0800
TZOFFSETTO:-0700
TZNAME:PDT
DTSTART:20260308T100000
END:DAYLIGHT
BEGIN:STANDARD
TZOFFSETFROM:-0700
TZOFFSETTO:-0800
TZNAME:PST
DTSTART:20261101T090000
END:STANDARD
END:VTIMEZONE
BEGIN:VEVENT
DTSTART;TZID=America/Tijuana:20251203T170000
DTEND;TZID=America/Tijuana:20251203T190000
DTSTAMP:20260421T040332
CREATED:20251015T163508Z
LAST-MODIFIED:20251203T203132Z
UID:511-1764781200-1764788400@www.orfila.com
SUMMARY:Paint and Sip!
DESCRIPTION:Join us for an evening of fun at our Escondido Orfila location! Email Larisse today to get a link for tickets:  artwithlarisse@gmail.com \nLearn how to paint a beautiful painting project while enjoying your favorite wine! Supplies are provided along with a 2 hour painting lesson. All supplies will be waiting at the vineyard for your paint night experience. Cost of class does not include wine. Can’t wait to see you!
URL:https://www.orfila.com/event/paint-and-sip-4/
LOCATION:CA
CATEGORIES:Events
END:VEVENT
END:VCALENDAR