BEGIN:VCALENDAR
VERSION:2.0
PRODID:-//Orfila Vineyards &amp; Winery - ECPv6.15.20//NONSGML v1.0//EN
CALSCALE:GREGORIAN
METHOD:PUBLISH
X-WR-CALNAME:Orfila Vineyards &amp; Winery
X-ORIGINAL-URL:https://www.orfila.com
X-WR-CALDESC:Events for Orfila Vineyards &amp; Winery
REFRESH-INTERVAL;VALUE=DURATION:PT1H
X-Robots-Tag:noindex
X-PUBLISHED-TTL:PT1H
BEGIN:VTIMEZONE
TZID:UTC
BEGIN:STANDARD
TZOFFSETFROM:+0000
TZOFFSETTO:+0000
TZNAME:UTC
DTSTART:20240101T000000
END:STANDARD
END:VTIMEZONE
BEGIN:VEVENT
DTSTART;TZID=UTC:20251224T000000
DTEND;TZID=UTC:20251224T235959
DTSTAMP:20260423T002522
CREATED:20251223T025130Z
LAST-MODIFIED:20251223T025149Z
UID:5123-1766534400-1766620799@www.orfila.com
SUMMARY:Closed for Christmas Eve
DESCRIPTION:
URL:https://www.orfila.com/event/closed-for-christmas-eve/
LOCATION:CA
END:VEVENT
END:VCALENDAR