BEGIN:VCALENDAR
VERSION:2.0
PRODID:-//Orfila Vineyards &amp; Winery - ECPv6.15.20//NONSGML v1.0//EN
CALSCALE:GREGORIAN
METHOD:PUBLISH
X-ORIGINAL-URL:https://www.orfila.com
X-WR-CALDESC:Events for Orfila Vineyards &amp; Winery
REFRESH-INTERVAL;VALUE=DURATION:PT1H
X-Robots-Tag:noindex
X-PUBLISHED-TTL:PT1H
BEGIN:VTIMEZONE
TZID:America/Tijuana
BEGIN:DAYLIGHT
TZOFFSETFROM:-0800
TZOFFSETTO:-0700
TZNAME:PDT
DTSTART:20240310T100000
END:DAYLIGHT
BEGIN:STANDARD
TZOFFSETFROM:-0700
TZOFFSETTO:-0800
TZNAME:PST
DTSTART:20241103T090000
END:STANDARD
BEGIN:DAYLIGHT
TZOFFSETFROM:-0800
TZOFFSETTO:-0700
TZNAME:PDT
DTSTART:20250309T100000
END:DAYLIGHT
BEGIN:STANDARD
TZOFFSETFROM:-0700
TZOFFSETTO:-0800
TZNAME:PST
DTSTART:20251102T090000
END:STANDARD
BEGIN:DAYLIGHT
TZOFFSETFROM:-0800
TZOFFSETTO:-0700
TZNAME:PDT
DTSTART:20260308T100000
END:DAYLIGHT
BEGIN:STANDARD
TZOFFSETFROM:-0700
TZOFFSETTO:-0800
TZNAME:PST
DTSTART:20261101T090000
END:STANDARD
END:VTIMEZONE
BEGIN:VEVENT
DTSTART;TZID=America/Tijuana:20250831T173000
DTEND;TZID=America/Tijuana:20250831T203000
DTSTAMP:20260424T230321
CREATED:20250827T215142Z
LAST-MODIFIED:20250827T215142Z
UID:442-1756661400-1756672200@www.orfila.com
SUMMARY:Live Music - Eric Rafftery
DESCRIPTION:Join us this Sunday at our winery for live music with the talented Eric Rafftery!
URL:https://www.orfila.com/event/live-music-eric-rafftery/
LOCATION:CA
CATEGORIES:Music
END:VEVENT
BEGIN:VEVENT
DTSTART;TZID=America/Tijuana:20250906T170000
DTEND;TZID=America/Tijuana:20250906T210000
DTSTAMP:20260424T230321
CREATED:20250817T021105Z
LAST-MODIFIED:20250817T021105Z
UID:437-1757178000-1757192400@www.orfila.com
SUMMARY:60s DJ NIGHT- (FLOWER CHILD)
DESCRIPTION:Groove into the past!! Dress up 60s style with our DJ retro music and let’s keep the good vibes flowing (and the wine too)!!
URL:https://www.orfila.com/event/60s-dj-night-flower-child/
LOCATION:CA
CATEGORIES:Music
END:VEVENT
BEGIN:VEVENT
DTSTART;TZID=America/Tijuana:20250907T160000
DTEND;TZID=America/Tijuana:20250907T200000
DTSTAMP:20260424T230321
CREATED:20250903T231133Z
LAST-MODIFIED:20250903T231133Z
UID:451-1757260800-1757275200@www.orfila.com
SUMMARY:Live Music - Puro Feeling
DESCRIPTION:Join us for an evening of wine and great music as Puro Feeling brings a lively mix of Top 40\, Latin\, R&B\, SoCal Rock\, and Pop to the vineyard stage!
URL:https://www.orfila.com/event/live-music-puro-feeling-2/
LOCATION:CA
CATEGORIES:Music
END:VEVENT
BEGIN:VEVENT
DTSTART;TZID=America/Tijuana:20250912T170000
DTEND;TZID=America/Tijuana:20250912T200000
DTSTAMP:20260424T230321
CREATED:20250909T170537Z
LAST-MODIFIED:20250909T170537Z
UID:459-1757696400-1757707200@www.orfila.com
SUMMARY:Live Music - Blaise Guld
DESCRIPTION:Come sip wine and soak up the sounds of Blaise Guld as he takes the stage with an incredible mix of Top 40\, Pop\, Total Variety\, Folk\, and some Rock. It’s the perfect vibe for a relaxing evening in the vineyard—great music\, great wine\, and great company!
URL:https://www.orfila.com/event/live-music-blaise-guld-2/
LOCATION:CA
CATEGORIES:Music
END:VEVENT
BEGIN:VEVENT
DTSTART;TZID=America/Tijuana:20250913T170000
DTEND;TZID=America/Tijuana:20250913T210000
DTSTAMP:20260424T230321
CREATED:20250817T023157Z
LAST-MODIFIED:20250817T023157Z
UID:438-1757782800-1757797200@www.orfila.com
SUMMARY:70s DJ NIGHT - (DISCO)
DESCRIPTION:From Saturday Night Fever to vineyard fever—we’re bringing the disco decade back in style! Come dressed in your most dazzling 70s look\, dance beneath the stars\, and sip wine while the DJ keeps the beats grooving all night long.
URL:https://www.orfila.com/event/70s-dj-night-disco/
LOCATION:CA
CATEGORIES:Events,Music
END:VEVENT
BEGIN:VEVENT
DTSTART;TZID=America/Tijuana:20250914T160000
DTEND;TZID=America/Tijuana:20250914T200000
DTSTAMP:20260424T230321
CREATED:20250909T170020Z
LAST-MODIFIED:20250909T170020Z
UID:458-1757865600-1757880000@www.orfila.com
SUMMARY:Live Music - Andrew Peña
DESCRIPTION:Come hang out at Orfila and enjoy live music with Andrew Peña! He’s bringing the energy with Rock\, Pop\, Top 40 hits\, total variety\, and even some karaoke fun. The perfect mix for a night of great wine\, good vibes\, and music that keeps everyone singing along!
URL:https://www.orfila.com/event/live-music-andrew-pena-6/
LOCATION:CA
CATEGORIES:Music
END:VEVENT
BEGIN:VEVENT
DTSTART;TZID=America/Tijuana:20250919T170000
DTEND;TZID=America/Tijuana:20250919T210000
DTSTAMP:20260424T230321
CREATED:20250903T231258Z
LAST-MODIFIED:20250903T231258Z
UID:452-1758301200-1758315600@www.orfila.com
SUMMARY:Live Music- Fercho
DESCRIPTION:Come sip your favorite wines and unwind as Fercho fills the vineyard with the smooth sounds of Latin and World music!
URL:https://www.orfila.com/event/live-music-fercho-9/
LOCATION:CA
CATEGORIES:Music
END:VEVENT
BEGIN:VEVENT
DTSTART;TZID=America/Tijuana:20250920T170000
DTEND;TZID=America/Tijuana:20250920T210000
DTSTAMP:20260424T230321
CREATED:20250817T023518Z
LAST-MODIFIED:20250817T023518Z
UID:439-1758387600-1758402000@www.orfila.com
SUMMARY:80s DJ NIGHT - (RETRO)
DESCRIPTION:Crimp that hair\, grab your neon\, and crank up the volume—our winery is going totally 80s! Get ready for a night of big beats\, bold outfits\, and even bolder wine as the DJ spins all your favorite throwback hits!
URL:https://www.orfila.com/event/dj-80s-night/
LOCATION:CA
CATEGORIES:Music
END:VEVENT
BEGIN:VEVENT
DTSTART;TZID=America/Tijuana:20250921T160000
DTEND;TZID=America/Tijuana:20250921T200000
DTSTAMP:20260424T230321
CREATED:20250909T173558Z
LAST-MODIFIED:20250909T173558Z
UID:460-1758470400-1758484800@www.orfila.com
SUMMARY:Live Music - Whelan
DESCRIPTION:Whelan brings his own twist to the night with a Total Variety performance\, from smooth tunes to upbeat favorites! Pair it with a glass (or two) of Orfila wine\, and you’ve got yourself the perfect evening.
URL:https://www.orfila.com/event/live-music-whelan-6/
LOCATION:CA
CATEGORIES:Music
END:VEVENT
BEGIN:VEVENT
DTSTART;TZID=America/Tijuana:20250927T170000
DTEND;TZID=America/Tijuana:20250927T210000
DTSTAMP:20260424T230321
CREATED:20250817T023749Z
LAST-MODIFIED:20250817T023749Z
UID:440-1758992400-1759006800@www.orfila.com
SUMMARY:90s DJ NIGHT - (FRIENDS SHOW STYLE THEME)
DESCRIPTION:Could this BE any more fun? Step into the 90s at our winery’s F-R-I-E-N-D-S inspired DJ Night! We’ll be there for you… with wine and 90s hits all night long! Our winery is taking it back to the Friends era\, so grab your crew\, dress the part\, and get ready to dance to the ultimate 90s DJ set!
URL:https://www.orfila.com/event/dj-90s-night-friends-style-theme/
LOCATION:CA
CATEGORIES:Music
END:VEVENT
BEGIN:VEVENT
DTSTART;TZID=America/Tijuana:20250928T160000
DTEND;TZID=America/Tijuana:20250928T200000
DTSTAMP:20260424T230322
CREATED:20250909T173810Z
LAST-MODIFIED:20250909T173810Z
UID:461-1759075200-1759089600@www.orfila.com
SUMMARY:Live Music - Blaise Guld
DESCRIPTION:Come sip wine and soak up the sounds of Blaise Guld with an incredible mix of Top 40\, Pop\, Total Variety\, Folk\, and some Rock. It’s the perfect vibe for a relaxing evening in the vineyard—great music\, great wine\, and great company!
URL:https://www.orfila.com/event/live-music-blaise-guld-3/
LOCATION:CA
CATEGORIES:Music
END:VEVENT
END:VCALENDAR