BEGIN:VCALENDAR
VERSION:2.0
PRODID:-//Orfila Vineyards &amp; Winery - ECPv6.15.20//NONSGML v1.0//EN
CALSCALE:GREGORIAN
METHOD:PUBLISH
X-ORIGINAL-URL:https://www.orfila.com
X-WR-CALDESC:Events for Orfila Vineyards &amp; Winery
REFRESH-INTERVAL;VALUE=DURATION:PT1H
X-Robots-Tag:noindex
X-PUBLISHED-TTL:PT1H
BEGIN:VTIMEZONE
TZID:America/Tijuana
BEGIN:DAYLIGHT
TZOFFSETFROM:-0800
TZOFFSETTO:-0700
TZNAME:PDT
DTSTART:20230312T100000
END:DAYLIGHT
BEGIN:STANDARD
TZOFFSETFROM:-0700
TZOFFSETTO:-0800
TZNAME:PST
DTSTART:20231105T090000
END:STANDARD
BEGIN:DAYLIGHT
TZOFFSETFROM:-0800
TZOFFSETTO:-0700
TZNAME:PDT
DTSTART:20240310T100000
END:DAYLIGHT
BEGIN:STANDARD
TZOFFSETFROM:-0700
TZOFFSETTO:-0800
TZNAME:PST
DTSTART:20241103T090000
END:STANDARD
BEGIN:DAYLIGHT
TZOFFSETFROM:-0800
TZOFFSETTO:-0700
TZNAME:PDT
DTSTART:20250309T100000
END:DAYLIGHT
BEGIN:STANDARD
TZOFFSETFROM:-0700
TZOFFSETTO:-0800
TZNAME:PST
DTSTART:20251102T090000
END:STANDARD
END:VTIMEZONE
BEGIN:VEVENT
DTSTART;TZID=America/Tijuana:20240531T170000
DTEND;TZID=America/Tijuana:20240531T190000
DTSTAMP:20260419T221056
CREATED:20240430T205415Z
LAST-MODIFIED:20251122T055352Z
UID:186-1717174800-1717182000@www.orfila.com
SUMMARY:Charcuterie Workshop
DESCRIPTION:Join us for our Month for Mom Charcuterie Workshop in the tent at Orfila Vineyards & Winery in Escondido!\n\n\nIn this class\, you will learn some of Mimi’s styling tips & tricks in a fun and interactive workshop. Bring a Mom in your life for a fun evening of wine & cheese with friends!\n\n\nTicket price includes all of the ingredients to make your very own charcuterie board to take home with you\, as well as your first glass of wine! 
URL:https://www.orfila.com/event/charcuterie-workshop-3/
LOCATION:CA
ATTACH;FMTTYPE=image/jpeg:https://www.orfila.com/wp-content/uploads/2025/11/440973327_949197743880199_567279346686220796_n.jpg
END:VEVENT
BEGIN:VEVENT
DTSTART;TZID=America/Tijuana:20240606T173000
DTEND;TZID=America/Tijuana:20240606T190000
DTSTAMP:20260419T221056
CREATED:20240531T162754Z
LAST-MODIFIED:20240531T162754Z
UID:197-1717695000-1717700400@www.orfila.com
SUMMARY:Trivia Night
DESCRIPTION:Come answer questions while sipping on genius juice at Orfila Escondido. Free to all. Just show up thirsty as we are a winery that would still like to sell a couple glasses or bottles of wine. \nTaco Therapy will be on site to help fuel your brains from 5 – 7 pm. 21+ only.
URL:https://www.orfila.com/event/trivia-night-3/
LOCATION:CA
ATTACH;FMTTYPE=image/gif:https://www.orfila.com/wp-content/uploads/2025/11/Trivia-3.gif
END:VEVENT
BEGIN:VEVENT
DTSTART;TZID=America/Tijuana:20240613T190000
DTEND;TZID=America/Tijuana:20240613T210000
DTSTAMP:20260419T221056
CREATED:20240530T225047Z
LAST-MODIFIED:20240530T225047Z
UID:195-1718305200-1718312400@www.orfila.com
SUMMARY:Comedy Night At Orfila!
DESCRIPTION:Come join comedian Lisa Gilbert and friends at Orfila Vineyards and Winery for a night full of laughter and good vibes! Grab a glass of wine\, sit back\, and get ready to LOL all night long. Don’t miss out on this evening of fun and entertainment! Big Oven Pizza will be on site to help fuel the funny from 5 – 7 pm. \n$20 OWL | $25 NON | 21+
URL:https://www.orfila.com/event/comedy-night-at-orfila/
LOCATION:CA
ATTACH;FMTTYPE=image/jpeg:https://www.orfila.com/wp-content/uploads/2025/11/ComedyNightJune-002-scaled-1.jpg
END:VEVENT
BEGIN:VEVENT
DTSTART;TZID=America/Tijuana:20240618T180000
DTEND;TZID=America/Tijuana:20240618T210000
DTSTAMP:20260419T221056
CREATED:20240611T182302Z
LAST-MODIFIED:20240611T182302Z
UID:199-1718733600-1718744400@www.orfila.com
SUMMARY:Wine Dinner at Amalfi Cucina Italiana
DESCRIPTION:Join us for an exquisite Italian Wine Dinner at Amalfi Cucina Italiana in Carmel Valley\, where each dish is meticulously prepared by Chef Marcello. Indulge in authentic Italian dishes perfectly paired with wines from Orfila. Winemaker\, Andrew Wisniewski\, will walk you through the wines as you work your way through each course. Reserve your seat today for an unforgettable evening! \nClick HERE to see the menu. \nJune 18th | 6 pm | $95 | 21+\nAmalfi Cucina Italiana – Carmel Valley\n5980 Village Way# B106 | San Diego\, CA | 92130
URL:https://www.orfila.com/event/wine-dinner-at-amalfi-cucina-italiana/
LOCATION:CA
ATTACH;FMTTYPE=image/jpeg:https://www.orfila.com/wp-content/uploads/2025/11/5036c6f1-6ef9-4683-3a57-ecf537b1cb6b.jpg
END:VEVENT
END:VCALENDAR